BEGIN:VCALENDAR
VERSION:2.0
PRODID:-//Taraba State University
CALSCALE:GREGORIAN
METHOD:PUBLISH
X-WR-CALNAME:Taraba State University
X-ORIGINAL-URL:https://www.tsuniversity.edu.ng/event/arts/
X-WR-CALDESC:Arts
BEGIN:VEVENT
DTSTART:20160620T160000
DTEND:20160620T120000
SUMMARY:Arts
DESCRIPTION:On the other hand, we denounce with righteous indignation and dislike men who are so beguiled and demoralized by the charms of pleasure of the moment, so blinded by desire.
LOCATION:Bentley Campus, Perth, WA
END:VEVENT
END:VCALENDAR
