BEGIN:VCALENDAR
VERSION:2.0
PRODID:-//Taraba State University
CALSCALE:GREGORIAN
METHOD:PUBLISH
X-WR-CALNAME:Taraba State University
X-ORIGINAL-URL:https://www.tsuniversity.edu.ng/event/health-sciences/
X-WR-CALDESC:Health Sciences
BEGIN:VEVENT
DTSTART:20160619T093000
DTEND:20160619T120000
SUMMARY:Health Sciences
DESCRIPTION:At vero eos et accusamus et iusto odio dignissimos ducimus qui blanditiis praesentium voluptatum deleniti atque corrupti quos dolores et quas molestias.
LOCATION:Bentley Campus, Perth, WA
END:VEVENT
END:VCALENDAR
