BEGIN:VCALENDAR
VERSION:2.0
PRODID:-//Taraba State University
CALSCALE:GREGORIAN
METHOD:PUBLISH
X-WR-CALNAME:Taraba State University
X-ORIGINAL-URL:https://www.tsuniversity.edu.ng/event/sciences/
X-WR-CALDESC:Sciences
BEGIN:VEVENT
DTSTART:20160630T070000
DTEND:20160630T083000
SUMMARY:Sciences
DESCRIPTION:But in certain circumstances and owing to the claims of duty or the obligations of business it will frequently occur that pleasures.
LOCATION:Bentley Campus, Perth, WA
END:VEVENT
END:VCALENDAR
