BEGIN:VCALENDAR
VERSION:2.0
PRODID:-//Taraba State University
CALSCALE:GREGORIAN
METHOD:PUBLISH
X-WR-CALNAME:Taraba State University
X-ORIGINAL-URL:https://www.tsuniversity.edu.ng/event/agriculture/
X-WR-CALDESC:Agriculture
BEGIN:VEVENT
DTSTART:
DTEND:
SUMMARY:Agriculture
DESCRIPTION:
LOCATION:
END:VEVENT
END:VCALENDAR
