BEGIN:VCALENDAR
VERSION:2.0
PRODID:-//Taraba State University
CALSCALE:GREGORIAN
METHOD:PUBLISH
X-WR-CALNAME:Taraba State University
X-ORIGINAL-URL:https://www.tsuniversity.edu.ng/event/education/
X-WR-CALDESC:Education
BEGIN:VEVENT
DTSTART:20160622T130000
DTEND:20160622T170000
SUMMARY:Education
DESCRIPTION:But in certain circumstances and owing to the claims of duty or the obligations of business it will frequently occur that pleasures.
LOCATION:Bentley Campus, Perth, WA
END:VEVENT
END:VCALENDAR
