BEGIN:VCALENDAR
VERSION:2.0
PRODID:-//Taraba State University
CALSCALE:GREGORIAN
METHOD:PUBLISH
X-WR-CALNAME:Taraba State University
X-ORIGINAL-URL:https://www.tsuniversity.edu.ng/event/engineering/
X-WR-CALDESC:Engineering
BEGIN:VEVENT
DTSTART:20160621T070000
DTEND:20160621T113000
SUMMARY:Engineering
DESCRIPTION:Nor again is there anyone who loves or pursues or desires to obtain pain of itself, because it is pain, but because occasionally circumstances occur in which toil and pain can procure.
LOCATION:
END:VEVENT
END:VCALENDAR
